BEGIN:VCALENDAR
VERSION:2.0
PRODID:-//Friblëtz - ECPv4.6.24.1//NONSGML v1.0//EN
CALSCALE:GREGORIAN
METHOD:PUBLISH
X-WR-CALNAME:Friblëtz
X-ORIGINAL-URL:http://www.fribletz.lu
X-WR-CALDESC:Veranstaltungen für Friblëtz
BEGIN:VEVENT
DTSTART;TZID=UTC+2:20141108T193000
DTEND;TZID=UTC+2:20141108T230000
DTSTAMP:20200125T101715
CREATED:20141002T142628Z
LAST-MODIFIED:20141028T132046Z
UID:1451-1415475000-1415487600@www.fribletz.lu
SUMMARY:2. Friblëtz Beerpong-Tournoi
DESCRIPTION:Eist nächst Friblëtz Event kënnt ëmmer méi no! Vir de Samschden\, den 8. November 2014 steet eise Beerpong-Tournoi um Programm! Rendez-Vous ass um 19:30 Auer am Centre Fries. \nGespillt gëtt ëmmer 2 géint 2. Dobäi zielen déi allgemeng gülteg Reegele vir de Beerpong (eng Lëscht mat de Reegele kënnt nach no!). D’Gewënner erwaard e super Präis. Wichteg ze soen ass nach: Et gëtt logescherweis NËMMEN mat Béier gespillt!\nMëllt iech hei um Doodle an 2er Teams un: Link – Doodle Beerpong \nw.e.g. nom folgende Modell: Numm\, Virnumm + Numm Virnumm = Numm vun der Ekipp \nWann der nëmmen Zuschauer sidd\, da mëllt iech einfach mat Numm a Virnumm un. \nDélai vir d’Umellung ass den 6. November um 12:00 Auer! \nMir frëen eis op e flotten a “sportlechen” Owend! \n
URL:http://www.fribletz.lu/event/2-fribletz-beerpong-tournoi/
LOCATION:Centre Fries\, Fribourg\, Rue G. Techtermann 8\, CH-1700\, Schweiz
ATTACH;FMTTYPE=image/jpeg:http://www.fribletz.lu/wp/wp-content/uploads/2013/11/heart1280x10402-e1412260031624.jpg
ORGANIZER;CN="Fribl%C3%ABtz":MAILTO:comité@fribletz.lu
END:VEVENT
END:VCALENDAR