BEGIN:VCALENDAR
VERSION:2.0
PRODID:-//Friblëtz - ECPv4.6.24.1//NONSGML v1.0//EN
CALSCALE:GREGORIAN
METHOD:PUBLISH
X-WR-CALNAME:Friblëtz
X-ORIGINAL-URL:http://www.fribletz.lu
X-WR-CALDESC:Veranstaltungen für Friblëtz
BEGIN:VEVENT
DTSTART;TZID=UTC+2:20150221T140000
DTEND;TZID=UTC+2:20150221T170000
DTSTAMP:20200125T100151
CREATED:20150216T134106Z
LAST-MODIFIED:20150516T141824Z
UID:1591-1424527200-1424538000@www.fribletz.lu
SUMMARY:2ten Swisscup Training
DESCRIPTION:Eis 1. Aktivitéit am neie Semester ass den 2. Swisscup Training. Dëse fënnt rëm an der Sportshal vun der Universitéit um Pérolles statt. Rendez-Vous ass den 21. Februar um 14:00 Auer an der Hal! \nDuschen a Vestiairë stinn eis och zur Verfügung! \nDe Swisscup steet dëst Semester um Programm. Vir dass mer eis Titelen eierenhaft verteidege kennen\, ass et wichteg eemol zesummen ze schweessen! Kommt zu vill da gëtt et en flotten Nomëtteg! \n–> Keng Umeldung op Doodle! \n
URL:http://www.fribletz.lu/event/2ten-swisscup-training/
LOCATION:Sportshal Université de Fribourg Pérolles\, Fribourg\, Bvd de Pérolles 95\, CH-1700\, Schweiz
CATEGORIES:Friblëtz Events
ATTACH;FMTTYPE=image/gif:http://www.fribletz.lu/wp/wp-content/uploads/2015/02/sport-e1424094274935.gif
ORGANIZER;CN="Fribl%C3%ABtz":MAILTO:comité@fribletz.lu
END:VEVENT
END:VCALENDAR