BEGIN:VCALENDAR
VERSION:2.0
PRODID:-//Friblëtz - ECPv4.6.24.1//NONSGML v1.0//EN
CALSCALE:GREGORIAN
METHOD:PUBLISH
X-WR-CALNAME:Friblëtz
X-ORIGINAL-URL:http://www.fribletz.lu
X-WR-CALDESC:Veranstaltungen für Friblëtz
BEGIN:VEVENT
DTSTART;TZID=UTC+2:20140718T200000
DTEND;TZID=UTC+2:20140718T235500
DTSTAMP:20200125T101530
CREATED:20140722T130340Z
LAST-MODIFIED:20140722T130340Z
UID:1312-1405713600-1405727700@www.fribletz.lu
SUMMARY:ACEL's Studentenbal
DESCRIPTION:Vakanz\, fir dei eng ass se schon do\, fir dei aaner kennt se gleich. An wei der all wesst ass am Ufank vun der Summervakanz och emmer den traditionellen Studentenbal vun der ACEL. \nMir hunn do wei all Joer een Stand zesummen mat Lausanne an breichten äer Hellef. Et ginn Leit beim Montage an beim Demontage gebraucht genau sou wei um Bal selwer op eisem Stand an an den Entrees an Bongenkeesen. \nDofir wieren mir ganz frou wann dir eis do keint hëllefen\, well wann mir net all Schicht besaat kreien kreien mir leider neicht vum Benefice. \nDei die hellefen wellen kennen sech um Doodle anschreiwen (dir kennt och ganz gäeren op mei Schichten androen). Schreift och w.e.g. emmer FRIB hannert äeren Numm\, dann ass et mei liichten den iwerbleck ze behaalen (den Doodle ass zesummen mat den Lausanner). \n  \nhttp://doodle.com/efia9khuspy72i8p \n  \nMir hunn och 10 Gratis Entrees Ticketen Dei ginn natierlech un dei Leit dei am meeschten hellefen 😉 \n  \nWann nach froen sinn kennt der ierch gäeren beim Comité mellen \n  \nDen Comité seet iech lo schon Merci \n  \nÄren Comité \n
URL:http://www.fribletz.lu/event/acels-studentenbal/
LOCATION:P&R Bouillon\, Luxemburg\, Luxemburg
CATEGORIES:Friblëtz Events
ATTACH;FMTTYPE=image/jpeg:http://www.fribletz.lu/wp/wp-content/uploads/2014/06/ACEL-Studentebal_eventimage.jpg
END:VEVENT
END:VCALENDAR