BEGIN:VCALENDAR
VERSION:2.0
PRODID:-//Friblëtz - ECPv4.6.24.1//NONSGML v1.0//EN
CALSCALE:GREGORIAN
METHOD:PUBLISH
X-WR-CALNAME:Friblëtz
X-ORIGINAL-URL:http://www.fribletz.lu
X-WR-CALDESC:Veranstaltungen für Friblëtz
BEGIN:VEVENT
DTSTART;TZID=UTC+2:20160305T170000
DTEND;TZID=UTC+2:20160305T235900
DTSTAMP:20210420T205940
CREATED:20160204T161831Z
LAST-MODIFIED:20160302T110626Z
UID:2000-1457197200-1457222340@www.fribletz.lu
SUMMARY:Après-Ski Party am Centre Fries
DESCRIPTION:“ESSSKALATIOOON“: Dëse Samchden ass eis Après-Ski Party! Ab 17:00 Auer gëtt den éischte Béier servéiert an op d’Après-Ski Hits\, opgeluecht vum DJ Kiko\, gefeiert! Wéi d’lescht Joer gëtt et eng Bar bannen a baussen. D’Party geet bis se eis erausgeheien.\n\n\nVir den Honger ze bändegen\, schméisse mer de Grill un. Vir Kuelen a Material suergt äre Comité\, dir musst just äert Iessen selwer matbréngen.\n\n\nE WELCOME-SHOT VIR JIDDEREEN DEN AM APRES-SKI DRESS KENNT!\n\n\nD’Party ass en Intercercle an en oppend Event\, dir kënnt also gär äer Lëtzebuerger a Schwäizer Kollegen matbréngen. Eenzeg Konditiounen: Duuscht\, gutt Laun an Partystëmmung!\n\n\nHei fann der d’Präisslescht: Preislëscht\nEt ass selbstverständlech verbueden eegent Gedréks matzebréngen!\n\n\n
URL:http://www.fribletz.lu/event/apres-ski-party-am-centre-fires/
LOCATION:Centre Fries\, Fribourg\, Rue G. Techtermann 8\, CH-1700\, Schweiz
CATEGORIES:Friblëtz Events
ATTACH;FMTTYPE=image/jpeg:http://www.fribletz.lu/wp/wp-content/uploads/2016/02/apres-ski-tonis.jpg
ORGANIZER;CN="Fribl%C3%ABtz":MAILTO:comité@fribletz.lu
END:VEVENT
END:VCALENDAR