BEGIN:VCALENDAR
VERSION:2.0
PRODID:-//Friblëtz - ECPv4.6.24.1//NONSGML v1.0//EN
CALSCALE:GREGORIAN
METHOD:PUBLISH
X-WR-CALNAME:Friblëtz
X-ORIGINAL-URL:http://www.fribletz.lu
X-WR-CALDESC:Veranstaltungen für Friblëtz
BEGIN:VEVENT
DTSTART;VALUE=DATE:20151128
DTEND;VALUE=DATE:20151129
DTSTAMP:20210420T205856
CREATED:20151105T073900Z
LAST-MODIFIED:20151118T142231Z
UID:1931-1448668800-1448755199@www.fribletz.lu
SUMMARY:Chrëchtmaart zu Montreux
DESCRIPTION:Mir ginn och dëst Joer erëm op de Chrëschtmaart zu Montreux fir e bësse Chrëschtdagsloft ze schnupperen. A villäicht fënnt den een oder aneren nach e Kaddo…! \nDoodle – Montreux Chrëschtmaart\n(Délai: Mëttwoch den 25. November um 12:00) \nVir dëst Event gëtt et keng Limitt u Persounen. Mir probéieren sou vill Leit an den Autoen ënner ze brénge wéi méiglech. Aus dësem Grond wier et gutt wann jiddereen den en Auto huet säin zu Verfügung stelle kéint. Et gi Parkingen no beim Chrëschtmaart an der Stad\, déi allerdéngs oft iwwerfëllt sinn. Et ginn awer Parkingen ausserhalb vu Montreux organiséiert mat gratis Navetten. \nRendez-Vous ass um 16:45 beim Irish\, wou mer d’Leit op d’Autoen opdeelen. Spéitstens 17:00 fuere mir dann zesummen fort op Montreux. Zu Montreux kënnen d’Leit da fräi iwwert de Chrëschtmaart goen. \nAnescht wéi d’Joere virdru wäerte mer dës Kéier keng Kéisfondue organiséieren. Dofir organiséiere mer um 20:00 e gemeinsame Glühwäin. Treffpunkt ass an der Mëtt der grousser Hal (déi ass net ze iwwersinn). \n  \n
URL:http://www.fribletz.lu/event/chrechtmaart-zu-montreux-2/
LOCATION:Chrëchtmaart Montreux\, Montreux\, Place du Marché\, quais\, Grand-Rue\, CH-1820\, Schweiz
CATEGORIES:Friblëtz Events
ATTACH;FMTTYPE=image/jpeg:http://www.fribletz.lu/wp/wp-content/uploads/2015/11/16499.jpg
END:VEVENT
END:VCALENDAR