BEGIN:VCALENDAR
VERSION:2.0
PRODID:-//Friblëtz - ECPv4.6.24.1//NONSGML v1.0//EN
CALSCALE:GREGORIAN
METHOD:PUBLISH
X-WR-CALNAME:Friblëtz
X-ORIGINAL-URL:http://www.fribletz.lu
X-WR-CALDESC:Veranstaltungen für Friblëtz
BEGIN:VEVENT
DTSTART;TZID=UTC+2:20141129T170000
DTEND;TZID=UTC+2:20141129T220000
DTSTAMP:20200125T101938
CREATED:20141002T143337Z
LAST-MODIFIED:20141127T123210Z
UID:1453-1417280400-1417298400@www.fribletz.lu
SUMMARY:Chrëchtmaart zu Montreux
DESCRIPTION:Den 29. November gin mer wei all Joer ob Montreux ob den Chreschtmaart. Rendez-Vous ass um 16:00 beim Irish. Vun do aus fueren mer dann all zesummen ob Montreux. Um Chreschtmaart gin mer dann och\, fir dei wou wellen\, eng Kéisfondue iessen.\n\nDen Restaurant ass fir 30 Léit um 19:00 Auer reserveiert. Deen eischten ass also fir 😉\n\nUmellen kenn der Ierch wei gewinnt um Doodle: Doodle – Chrëchtmaart @ Montreux\n\nDen Délai fir sech unzemellen ass bis den 22. November um 00:00\n\nDen Comité iwwerhellt d’Keschten fir den Benzin!\n  \n
URL:http://www.fribletz.lu/event/chrechtmaart-zu-montreux/
LOCATION:Chrëchtmaart Montreux\, Montreux\, Place du Marché\, quais\, Grand-Rue\, CH-1820\, Schweiz
ATTACH;FMTTYPE=image/jpeg:http://www.fribletz.lu/wp/wp-content/uploads/2014/10/resized_802x533_802x533__montreux_noel__otv_-_l-e1412260482102.jpg
ORGANIZER;CN="Fribl%C3%ABtz":MAILTO:comité@fribletz.lu
END:VEVENT
END:VCALENDAR