BEGIN:VCALENDAR
VERSION:2.0
PRODID:-//Friblëtz - ECPv4.6.24.1//NONSGML v1.0//EN
CALSCALE:GREGORIAN
METHOD:PUBLISH
X-WR-CALNAME:Friblëtz
X-ORIGINAL-URL:http://www.fribletz.lu
X-WR-CALDESC:Veranstaltungen für Friblëtz
BEGIN:VEVENT
DTSTART;TZID=UTC+2:20141128T080000
DTEND;TZID=UTC+2:20141214T170000
DTSTAMP:20200125T101902
CREATED:20141128T122146Z
LAST-MODIFIED:20141211T120611Z
UID:1527-1417161600-1418576400@www.fribletz.lu
SUMMARY:Friblëtz Plovere bestellen
DESCRIPTION:Vun der Friblëtz-Plover-Front gëtt et eng schlecht an eng gutt Noriicht: dat mat de virgestallte Plovere klappt leider net\, mee glécklecherweis hu mer neier fonnt. Déi nei gesinn sou aus: \n \nDe Plover ass unisex an et ginn 2 Faarwen: roud a blo. De neie Präis ass CHF 25.- . Leider kënne mer iwwer déi Firma wou mer bestelle keng Ploveren vir unzeprobéieren bestellen. Dofir hu mer e Bild bäigefügt op dem d’Gréissten beschriwe sinn. \n–> Bestellt äre Plover oder är Ploveren lo hei um Doodle: Doodle – Friblëtz Ploveren.  \n–> D’Bestellungen gi bis de 14. Dezember ugeholl! \n!!! Wichteg Information !!! \nDe Comité war ganz fléisseg a kann iech lo matdeelen\, dass der och lo Ploveren am navyblo mat rosaem oder/an pinkem Logo kënnt bestellen! \nNavy Blo / Rosa \nNavy Blo / Rosa \n  \nNavy Blo / Pink \nNavy Blo / Pink \n  \nWichteg ass: den Délai bléiwt de 14. Dezember!! Wann der een Plover vun der neier Variant wëllt\, dann ÄNNERT w.e.g. är Bestellung um Doodle a macht keng zousätzlech Bestellung! Déi nei Ploveren kaschten bësse méi deier\, nämlech 38.- CHF. \nVirwaat? Ma igentlech hunn déi Ploveren de normale Präiss. Bei denen mat der wäisser Schrëft kréie mir e Mengen-Rabatt\, well op all Pullover (min. 50 Stéck) de selwechte Logo an der selwechter Gréisst a Faarw ass. \n
URL:http://www.fribletz.lu/event/fribletz-ploveren-bestellen/
END:VEVENT
END:VCALENDAR