BEGIN:VCALENDAR
VERSION:2.0
PRODID:-//Friblëtz - ECPv4.6.24.1//NONSGML v1.0//EN
CALSCALE:GREGORIAN
METHOD:PUBLISH
X-WR-CALNAME:Friblëtz
X-ORIGINAL-URL:http://www.fribletz.lu
X-WR-CALDESC:Veranstaltungen für Friblëtz
BEGIN:VEVENT
DTSTART;TZID=UTC+2:20151128T150000
DTEND;TZID=UTC+2:20151214T120000
DTSTAMP:20210420T205904
CREATED:20151124T151650Z
LAST-MODIFIED:20151128T143002Z
UID:1974-1448722800-1450094400@www.fribletz.lu
SUMMARY:Grindelwald: Aschreiwung vir d'Zëmmeren
DESCRIPTION:Den éischte Schnei ass gefall: Zäit also vir sech op Ski-Saison virzebereeden. D’Umeldung vir op Grindelwald ass schonn duerch. Lo gëllt et sech an d’Zëmmeren anzeschreiwen. \nSo eis a wéi enger “Festung der Einsamkeit” dass de wëlls deng Nuechte verbréngen. D’Moiesiessen an an all Zëmmer abegraff. Zur Verfügung stinn: \n1 x 9 Bettzëmmer\n4 x 6 Bettzëmmer\n3 x 4 Bettzëmmer \nNach e puer Reegelen:\n– Mellt iech mat Virnumm AN Familljennumm un\n– Et däerf nëmmen 1 Virnumm/Numm pro Spallt stoen\n– Du kanns dech nëmmen an 1 Zëmmer aschreiwen\n– Schreif dech w.e.g. net an en Zëmmer an wat scho komplett ass\n– Nom Délai sinn keng Ännerungen méi méiglech \nDoodle – Umeldung Zëmmeren Grindelwald\n–> Délai ass den 14. Dezember 2015! \n  \n
URL:http://www.fribletz.lu/event/grindelwald-anschreiwung-vir-dzemmeren/
LOCATION:Grindelwald\, Grindelwald Youth Hostel\, Grindelwald\, Geissstutzstrasse 12 \, CH-3818\, Schweiz
CATEGORIES:Friblëtz Events
ATTACH;FMTTYPE=image/jpeg:http://www.fribletz.lu/wp/wp-content/uploads/2015/11/00017338_m-e1448378060421.jpg
ORGANIZER;CN="Fribl%C3%ABtz":MAILTO:comité@fribletz.lu
END:VEVENT
END:VCALENDAR