BEGIN:VCALENDAR
VERSION:2.0
PRODID:-//Friblëtz - ECPv4.6.24.1//NONSGML v1.0//EN
CALSCALE:GREGORIAN
METHOD:PUBLISH
X-WR-CALNAME:Friblëtz
X-ORIGINAL-URL:http://www.fribletz.lu
X-WR-CALDESC:Veranstaltungen für Friblëtz
BEGIN:VEVENT
DTSTART;TZID=UTC+2:20141212T190000
DTEND;TZID=UTC+2:20141212T230000
DTSTAMP:20200125T100051
CREATED:20141002T143944Z
LAST-MODIFIED:20150516T141905Z
UID:1456-1418410800-1418425200@www.fribletz.lu
SUMMARY:Kleeschen 2014
DESCRIPTION:Léiwe Kleeschen\, gudde Kleeschen …! \nDen 12. Dezember ass et rëm esou weit: de Kleesche kennt (bësse verspéit) ob Fribourg. Ier de Kleeschen kennt\, gi mer an de Restaurant aux Tanneurs (7\, Place du Petit-Saint-Jean) iessen. Rendez-Vous ass um 19:00 Auer am restaurant. Et gëtt Fleeschfondue fir 30 CHF.- (Gedrénks net inclu!). \n \nNatierlech hu mer och un eis Vegetarier geduet: Fir si gëtt et eng “Salade mêlée” an dono “Risotto au vin rouge” mat enger “Bourse de légumes sur une mousse de carottes” fir 21 CHF.-…klengt net nëmme gutt\, mee ass et och! 😉\n\nEt ass fir 50 Leit reservéiert\, et besteet awer eventuell d’Méiglechkeet dat méi Leit kenne kommen. \nUmelle kann een sech bis den 5. Dezember 12:00 um Doodle: Doodle – Kleeschen 2014 \n \nNei ass dëst Hoer\, dass de Kleeschen an de Restaurant kënnt a mer ochg do feieren. D’Party geet bis 02:00 Auer.\nWei all Joers kenn der och e Cadeau am Wäert vun maximal 5 CHF.- kafe a matbréngen. Am Laaf vum Owend gëtt dann gewichtelt.\n\nAls kleng Erënnerung: de Kleesche freet sech fir all witzeg Geschicht déi der him per Mail ob seng Emailadress dekleeschen@fribletz.lu schéckt! Also nëmme go a fläisseg Emaile schécke fir dat et ee flotten an onvergiesslechen Owend gëtt!\n\n
URL:http://www.fribletz.lu/event/kleeschen-2014/
LOCATION:Restaurant Aux Tanneurs\, 7\, Place du Petit-Saint-Jean\, Fribourg\, 1700\, Schweiz
CATEGORIES:Friblëtz Events
ATTACH;FMTTYPE=image/jpeg:http://www.fribletz.lu/wp/wp-content/uploads/2014/10/cocacolakerst_04-e1416405433990.jpg
ORGANIZER;CN="Fribl%C3%ABtz":MAILTO:comité@fribletz.lu
END:VEVENT
END:VCALENDAR