BEGIN:VCALENDAR
VERSION:2.0
PRODID:-//Friblëtz - ECPv4.6.24.1//NONSGML v1.0//EN
CALSCALE:GREGORIAN
METHOD:PUBLISH
X-WR-CALNAME:Friblëtz
X-ORIGINAL-URL:http://www.fribletz.lu
X-WR-CALDESC:Veranstaltungen für Friblëtz
BEGIN:VEVENT
DTSTART;VALUE=DATE:20140517
DTEND;VALUE=DATE:20140518
DTSTAMP:20200125T101456
CREATED:20140722T131005Z
LAST-MODIFIED:20140722T131014Z
UID:1317-1400284800-1400371199@www.fribletz.lu
SUMMARY:Ofschlossfeier 2014
DESCRIPTION:E méi oder wéineger bekannte Mann sot eng Kéier: “Alles hat ein Ende nur die Wurst hat 2!” \nLeider zielt dëst och vir eis Friblëtz-Akiviéiten! Vir déi meescht Membere stinn d’Exame virun der Dier\, an dofir wëlle mer de Samschden de 17. Mee eist d’Joer ofschléissen. Dat maache mer mat engem klenge Foto-Owend an engem Ofschlossiessen. \nDe Programm gesäit sou aus: \n\n16h30: Rendez-vous op der Universitéit Pérolles am Sall A230 vir d’Fotoshow\n17h30: Maan mer eis op de Wee fir bei d’Sarine\, wou mer grillen.Vir dass dat gutt klappt\, wär et fein wann der en Grill kéint matbrénge wann der een hutt! De Comité huet och decidéiert d’Gegrills ze bezuelen (Vir d’Vegetarier gëtt och gesuergt!).\nBei schlechtem Wieder\, gi mer natierlech net grille mee an e Restaurant iessen. Well d’Iessen do awer méi deier gëtt leet de Comité an deem Fall nëmmen en Deel bäi!\nDuerno kann ee natiirlech weider Party maache goen.\n\nMellt iech lo um Doodle vir déi verschidden Optiounen un: Doodle Link-Ofschlossfeier. Den Delais ass dësen Donneschden\, den 15. Mee \nOpgrond vum schlechte Wieder gi mer warscheinlech an den Vapiano vir 19:00 iessen! \n  \n \nVideo-Quelle: www.youtube.com \n
URL:http://www.fribletz.lu/event/ofschlossfeier-2014/
CATEGORIES:Friblëtz Events
END:VEVENT
END:VCALENDAR