BEGIN:VCALENDAR
VERSION:2.0
PRODID:-//Friblëtz - ECPv4.6.24.1//NONSGML v1.0//EN
CALSCALE:GREGORIAN
METHOD:PUBLISH
X-WR-CALNAME:Friblëtz
X-ORIGINAL-URL:http://www.fribletz.lu
X-WR-CALDESC:Veranstaltungen für Friblëtz
BEGIN:VEVENT
DTSTART;TZID=UTC+2:20150502T190000
DTEND;TZID=UTC+2:20150502T190000
DTSTAMP:20210420T205437
CREATED:20150219T094845Z
LAST-MODIFIED:20150427T082633Z
UID:1603-1430593200-1430593200@www.fribletz.lu
SUMMARY:Pub Quiz
DESCRIPTION:Virun der Ofschlossfeier hu mer nach e lescht Event geplangt: den 2. Mee maache mer e Pub Quiz! \nAn Ekippe vu 4 bis maximal 6 Leit zeie mer duerch d’Caféen\, léisen déi knifflechst Rätselen a maache Spiller op Liewen an op dout! Vir all richteg geléiste Fro an all gepackte Spill ginn et Punkten. D’Ekipp mat de meeschte Punkten erwaart selbstverständlech e würdege Präis. \nAus organisatoresche Grënn kënnen op dësem Event nëmmen maximal 8 Gruppe vu minimum 4 bis maximal 6 Leit deelhuelen! Déi éischt sinn also vir! Den Doodle gëtt de Méinden\, de 27. Abrëll um 10:00 Auer online gesat. Mellt iech um Doodle mam Numm vun ärer Ekipp un a schreift de Virnumm vun all de Spiller a Klammeren hannendrun. \nRendez-Vous ass um 19:00 Auer bei der Ancienne Gare. Vun do aus ginn d’Ekippen dann op déi verschidden Caféen opgedeelt. Den Tour geet des Kéier vum Café Cyclo bis an de Café Le Tunnel. \nAn all Café waart e Game Master op iech dem säi grausamt Spill der iwwerliewe musst. Zudem krit der an all Café e puer Froen ze léisen. \nOp ärem Wee muss der e kniffleche Froen- a Quizbou léisen. \nNach eng kleng Regel zum Schluss: Et wär gut wann der an de Caféen och eppes ze drénke bestellt. D’Besetzer hunn eis sos hanno net méi gär an et wär schued wann mer kee Pub Quiz méi kéinte man! Mee e Pub Quiz ouni eppes ze drénken wär jo och keen Pub Quiz!  😉 \n  \n\nLink Doodle: http://doodle.com/2pizwbkg9t8tge45\n\n  \n
URL:http://www.fribletz.lu/event/pub-quiz/
CATEGORIES:Friblëtz Events
ATTACH;FMTTYPE=image/jpeg:http://www.fribletz.lu/wp/wp-content/uploads/2015/02/quiz_1-e1429689292517.jpg
ORGANIZER;CN="Fribl%C3%ABtz":MAILTO:comité@fribletz.lu
END:VEVENT
END:VCALENDAR