BEGIN:VCALENDAR
VERSION:2.0
PRODID:-//Friblëtz - ECPv4.6.24.1//NONSGML v1.0//EN
CALSCALE:GREGORIAN
METHOD:PUBLISH
X-WR-CALNAME:Friblëtz
X-ORIGINAL-URL:http://www.fribletz.lu
X-WR-CALDESC:Veranstaltungen für Friblëtz
BEGIN:VEVENT
DTSTART;VALUE=DATE:20151222
DTEND;VALUE=DATE:20151224
DTSTAMP:20210420T205918
CREATED:20151021T070943Z
LAST-MODIFIED:20151021T123037Z
UID:1893-1450742400-1450915199@www.fribletz.lu
SUMMARY:Tournoi de Noël
DESCRIPTION:Den Tournoi de Noël oder och Tournoi universitaire fënnt dëst Joer Dënschdes den 22. Dezember bis Mëttwochs den 23. Dezember 2015 statt. Et gëtt Volleyball\, Basketball a Fussball gespillt. \nDoodle – Tournoi de Noël\nUm Tournoi de Noël zu Lëtzebuerg moossen sech déi verschidde Lëtzebuerger Cercle an 3 Sportaarte géint eneen. Dënschdes den 22. gëtt Volleyball a Basketball gespillt. Mëttwochs den 23. gëtt de ganzen Dag Fussball gespillt. \nWell de Berner Cercle LSBe net sou vill Memberen huet ewéi mir\, hu mir decidéiert hinne bëssen ënnert d’Äerm ze gräifen an d’Ekippe maach hinnen zesummen ze maachen. Wann dir mat am Fri-LSBe-Team wëllt spillen da mëllt iech um Doodle un. \n
URL:http://www.fribletz.lu/event/tournoi-de-noel-2/
LOCATION:Sportshal Campus Geesseknäppchen\, Luxemburg
CATEGORIES:Friblëtz Events
ATTACH;FMTTYPE=image/jpeg:http://www.fribletz.lu/wp/wp-content/uploads/2015/10/10923841_10153502650200558_5481340635277008726_n-e1445411495886.jpg
END:VEVENT
END:VCALENDAR