BEGIN:VCALENDAR
VERSION:2.0
PRODID:-//Friblëtz - ECPv4.6.24.1//NONSGML v1.0//EN
CALSCALE:GREGORIAN
METHOD:PUBLISH
X-WR-CALNAME:Friblëtz
X-ORIGINAL-URL:http://www.fribletz.lu
X-WR-CALDESC:Veranstaltungen für Friblëtz
BEGIN:VEVENT
DTSTART;TZID=UTC+2:20151003T110000
DTEND;TZID=UTC+2:20151003T160000
DTSTAMP:20210420T205809
CREATED:20150929T102659Z
LAST-MODIFIED:20150929T102755Z
UID:1811-1443870000-1443888000@www.fribletz.lu
SUMMARY:Wandertour um Schwarzsee
DESCRIPTION:Endlech ass esou wäit! De neie Comité ass gewielt an déi éischt Eventer stinn um Programm. Mir fänke wéi all Joer mat enger “kultureller” Aktivitéit un. Dëst Joer gi mir op de Schwarzsee wanderen. \nRendez-vous ass dësen Samschden den 3. Oktober. De Programm gesäit folgendermoossen aus: \n\n11:00 Auer: Treffe beim Irish fir d’Leit op d’Autoen opzedeelen\n12:00 Auer: Mir kommen um Schwarzsee beim Tourismuszentrum un a wanderen drop lass\n14:00 Auer: Mir maachen eng Paus am Restaurant Bärghuus Riggisalp\n14:45 Auer: Mir fuere mat de Monster-Trottikick zréck no ënnen (dës kaschten 15.- CHF op der Kapp. Wen net matfiert muss zu Fouss oder mam Sessellift erem erof)\n15:30 Auer: Retour op Fribourg\n\nMëllt iech hei um Doodle fir de Wandertour un: Doodle – Wandertour Schwarzsee \nDélai ass Donneschdes den 1. Oktober um 12:00 Auer! \nWICHTEG: kräizt un op der op der Rendez-Vous kommt an op der mam Auto fuert oder net. Dëst ass immens wichteg fir d’Organisatioun vum Transport!  \n
URL:http://www.fribletz.lu/event/wandertour-um-schwarzsee/
LOCATION:Schwarzsee\, Schwarzseestrasse 212\, Schwarzsee\, Fribourg\, 1716\, Schweiz
CATEGORIES:Friblëtz Events
ATTACH;FMTTYPE=image/jpeg:http://www.fribletz.lu/wp/wp-content/uploads/2015/09/DSC0569-e1443514197925.jpg
ORGANIZER;CN="Fribl%C3%ABtz":MAILTO:comité@fribletz.lu
END:VEVENT
END:VCALENDAR