BEGIN:VCALENDAR
VERSION:2.0
PRODID:-//Friblëtz - ECPv4.6.24.1//NONSGML v1.0//EN
CALSCALE:GREGORIAN
METHOD:PUBLISH
X-WR-CALNAME:Friblëtz
X-ORIGINAL-URL:http://www.fribletz.lu
X-WR-CALDESC:Veranstaltungen für Friblëtz
BEGIN:VEVENT
DTSTART;TZID=UTC+2:20180223T170000
DTEND;TZID=UTC+2:20180225T190000
DTSTAMP:20200817T070526
CREATED:20170923T140907Z
LAST-MODIFIED:20180119T142521Z
UID:2415-1519405200-1519585200@www.fribletz.lu
SUMMARY:Ski-Weekend Crans-Montana
DESCRIPTION:  \nHei ass den Doodle fier sech fier den Ski-weekend vum 23ten bis den 25ten Februar 2018 unzemellen. \nhttps://beta.doodle.com/poll/xtwvzye7rk3p3v95 \nDen Trajet+Hotel+Frühstück kascht ierch 105CHF\, d’Buchungen gin iwwert de Friblëtz.\nWann der en Auto zu Fribourg hudd an de wellt zur Verfügung stellen\, mellt aerch w.e.g. och hei am Doodle mam Auto un. \nBezuelt dei 105CHF w.e.g. bis de Schluss vum Joer 2017 op eisen Schwaizer Konto\, mat ärem Numm an dem Vermierk: \nIBAN: CH37 0900 0000 8912 7263 1\nBIC: POFICHBEXXX \nWichteg: Der huelt nemmen Gepäck a Leit mat\, fier Skimaterial hu mer eng Camionnette\, der braucht also keng Anscht em äeren Auto ze hun\, Kilometer- a Parkinggeld gett natierlech vum Comité iwwerholl. \nSamschdes Owes gin mer all zesummen iessen\, an den Restaurant Ladésalpe\, den Doodle fier unzemellen fannt der hei: \nhttps://doodle.com/poll/rxahdz4yqu5fpswp \n  \nHei fannt der den Zaitplang an dei wichteg Informatiounen op een Bléck: \nInfos an Zaitplang Crans-Montana \nFalls nach weider Froen sin\, einfach bei engem vun eis mellen\, mer hellefen gären weider. \n  \nDen Doodle fier d’Zëmmeropdeelung fannt der ab Sonndes dem 21ten Januar em Punkt 16h op Facebook an kuerz dono och hei. \n  \n  \n
URL:http://www.fribletz.lu/event/ski-weekend-crans-montana/
LOCATION:Crans Montana\, Crans Montana\, Schweiz
END:VEVENT
END:VCALENDAR