BEGIN:VCALENDAR
VERSION:2.0
PRODID:-//Friblëtz - ECPv4.6.24.1//NONSGML v1.0//EN
CALSCALE:GREGORIAN
METHOD:PUBLISH
X-WR-CALNAME:Friblëtz
X-ORIGINAL-URL:http://www.fribletz.lu
X-WR-CALDESC:Veranstaltungen für Friblëtz
BEGIN:VEVENT
DTSTART;TZID=UTC+2:20180517T180000
DTEND;TZID=UTC+2:20180517T230000
DTSTAMP:20200817T060454
CREATED:20180227T084904Z
LAST-MODIFIED:20180425T134414Z
UID:2488-1526580000-1526598000@www.fribletz.lu
SUMMARY:AG an Oofschlossiessen
DESCRIPTION:Eis AG an eist Oofschlussiessen den 17ten Mee (Oppassen neien Datum!!!!) markeiert de Schlus vum Semester fier eis an den Ufank vum neien Comité. \nInteresseierter vum Comité sollen sech w.e.g. mellen\, fier allmeiglech Informatiounen ze kreien an fier dass den neien Comité schon e bessen kann organiseiert gin. \n  \nFier d’AG selwer treffen mer eis op der Uni an dann fier d’Owesiessen gi mer all zesummen an den Imprevu. Umellung dofier kennt nach no. \n
URL:http://www.fribletz.lu/event/ag-an-oofschlossiessen/
END:VEVENT
END:VCALENDAR